BEGIN:VCALENDAR
VERSION:2.0
PRODID:-//Monterey Bay Roller Derby - ECPv6.15.18//NONSGML v1.0//EN
CALSCALE:GREGORIAN
METHOD:PUBLISH
X-WR-CALNAME:Monterey Bay Roller Derby
X-ORIGINAL-URL:https://www.montereybayrollerderby.org
X-WR-CALDESC:Events for Monterey Bay Roller Derby
REFRESH-INTERVAL;VALUE=DURATION:PT1H
X-Robots-Tag:noindex
X-PUBLISHED-TTL:PT1H
BEGIN:VTIMEZONE
TZID:America/Los_Angeles
BEGIN:DAYLIGHT
TZOFFSETFROM:-0800
TZOFFSETTO:-0700
TZNAME:PDT
DTSTART:20220313T100000
END:DAYLIGHT
BEGIN:STANDARD
TZOFFSETFROM:-0700
TZOFFSETTO:-0800
TZNAME:PST
DTSTART:20221106T090000
END:STANDARD
BEGIN:DAYLIGHT
TZOFFSETFROM:-0800
TZOFFSETTO:-0700
TZNAME:PDT
DTSTART:20230312T100000
END:DAYLIGHT
BEGIN:STANDARD
TZOFFSETFROM:-0700
TZOFFSETTO:-0800
TZNAME:PST
DTSTART:20231105T090000
END:STANDARD
BEGIN:DAYLIGHT
TZOFFSETFROM:-0800
TZOFFSETTO:-0700
TZNAME:PDT
DTSTART:20240310T100000
END:DAYLIGHT
BEGIN:STANDARD
TZOFFSETFROM:-0700
TZOFFSETTO:-0800
TZNAME:PST
DTSTART:20241103T090000
END:STANDARD
END:VTIMEZONE
BEGIN:VEVENT
DTSTART;TZID=America/Los_Angeles:20231128T183000
DTEND;TZID=America/Los_Angeles:20231128T210000
DTSTAMP:20260423T041235
CREATED:20231116T014244Z
LAST-MODIFIED:20231128T154508Z
UID:318-1701196200-1701205200@www.montereybayrollerderby.org
SUMMARY:Skate With Us
DESCRIPTION:Join us for a mini bootcamp where our coaches will be available to support your skating development & introduce you to the basics of flat track roller derby! \nMust be 18+\, all genders are welcome! \nThis will be held at our practice facility in Monterey on November 28th from 6:30pm  9:00pm. \nPLEASE BRING:\n⭐Skates (quad\, inline)\n⭐Safety gear (helmet\, knee pads\, wrist guards\, elbow pads\, mouth guard for contact skills)\n⭐Water (and snacks if you need to!) \nSkating with safety gear and signing the event waiver are both MANDATORY. We have limited quantities of safety gear available for rent – please contact us for more information. \nAgenda\n6:15 Doors open6:30 Free skate7:00 Optional Lesson 1: Stopping7:30 Free skate & additional coaching8:00 Optional Lesson 2: Safer falls and recovery8:30 Free skate & additional coaching9:00 Group picture \nQuestions?\nEmail us at vicepresident@montereybayrollerderby.org
URL:https://www.montereybayrollerderby.org/event/skate-with-us-2/
LOCATION:Monterey County Fairgrounds – King City Room\, 2004 Fairground Rd\, Monterey\, CA\, 93940\, United States
END:VEVENT
BEGIN:VEVENT
DTSTART;VALUE=DATE:20231007
DTEND;VALUE=DATE:20231009
DTSTAMP:20260423T041235
CREATED:20230718T214431Z
LAST-MODIFIED:20230718T215046Z
UID:246-1696636800-1696809599@www.montereybayrollerderby.org
SUMMARY:MBRD @ Deep Blue Invitational Tournament
DESCRIPTION:Our Beasts of Eden charter team will be playing in a tournament hosted by Sierra Regional Roller Derby in Reno\, Nevada as part of the Legion Sports Fest! \nJoin us for 2-days of action in Reno\, NV! 9 teams will compete for the title of champion. This event is WFTDA sanctioned.\nThe 2023 Deep Blue Invitational will be held in part with the Legion Sports Fest. We will be one of many events happening at this Saturday and Sunday event. Legion Sports Fest – Center Podium | NPC & IFBB Pro Events\n\nParticipating Teams include:\nSierra Regional Roller Derby (Host)\nGreater Vancouver Roller Derby\nHigh Altitude Roller Derby\nMonterey Bay Roller Derby\nRage City Roller Derby\nTeam Montana Roller Derby\nTreasure Valley Roller Derby\nWest Coast Derby Knockouts\nWine Town Rollers\n\nTickets and Details – Facebook Event 
URL:https://www.montereybayrollerderby.org/event/mbrd-deep-blue-invitational-tournament/
LOCATION:Reno-Sparks Convention Center\, 4590 South Virginia St\, Reno\, NV\, 89502\, United States
ATTACH;FMTTYPE=image/jpeg:https://www.montereybayrollerderby.org/wp-content/uploads/2023/07/DeepBluePoster.jpg
END:VEVENT
BEGIN:VEVENT
DTSTART;TZID=America/Los_Angeles:20230810T183000
DTEND;TZID=America/Los_Angeles:20230810T213000
DTSTAMP:20260423T041235
CREATED:20230716T185128Z
LAST-MODIFIED:20230810T184624Z
UID:236-1691692200-1691703000@www.montereybayrollerderby.org
SUMMARY:Skate With Us
DESCRIPTION:Join us for a mini bootcamp where our coaches will be available to support your skating development & introduce you to the basics of flat track roller derby. 18 y.o. +\, all genders. \nSkaters\, here is what you need to bring: skates (quad\, inline)\, safety gear (helmet\, knee pads\, wrist guards\, elbow pads\, mouth guard for contact skills) [limited quantities of safety gear available for rent – contact us for more information].\nOptional but highly recommended: water\, snacks \nAll fees go to support Monterey Bay Roller Derby. If you join our October bootcamp\, your Skater fee will be credited from bootcamp tuition.
URL:https://www.montereybayrollerderby.org/event/skate-with-us/
LOCATION:Monterey County Fairgrounds – King City Room\, 2004 Fairground Rd\, Monterey\, CA\, 93940\, United States
ATTACH;FMTTYPE=image/jpeg:https://www.montereybayrollerderby.org/wp-content/uploads/2023/07/IMG_3622.jpg
END:VEVENT
BEGIN:VEVENT
DTSTART;TZID=America/Los_Angeles:20230617T173000
DTEND;TZID=America/Los_Angeles:20230617T210000
DTSTAMP:20260423T041235
CREATED:20230503T203040Z
LAST-MODIFIED:20230503T203123Z
UID:234-1687023000-1687035600@www.montereybayrollerderby.org
SUMMARY:MBRD vs Peninsula Roller Derby @ Redwood City
DESCRIPTION:
URL:https://www.montereybayrollerderby.org/event/peninsula-roller-derby-at-redwood-city/
LOCATION:CA
CATEGORIES:California Derby Galaxy
END:VEVENT
BEGIN:VEVENT
DTSTART;TZID=America/Los_Angeles:20230521T130000
DTEND;TZID=America/Los_Angeles:20230521T150000
DTSTAMP:20260423T041235
CREATED:20230312T175720Z
LAST-MODIFIED:20230312T181340Z
UID:227-1684674000-1684681200@www.montereybayrollerderby.org
SUMMARY:MBRD vs SCRD
DESCRIPTION:Monterey will play Santa Cruz in California Derby Galaxy’s Quasars Division. This game is available on streaming only.
URL:https://www.montereybayrollerderby.org/event/mbrd-vs-scrd/
LOCATION:CA
CATEGORIES:Bout,California Derby Galaxy
END:VEVENT
BEGIN:VEVENT
DTSTART;TZID=America/Los_Angeles:20230513T163000
DTEND;TZID=America/Los_Angeles:20230513T210000
DTSTAMP:20260423T041235
CREATED:20230312T175419Z
LAST-MODIFIED:20230312T181232Z
UID:225-1683995400-1684011600@www.montereybayrollerderby.org
SUMMARY:MBRD vs BAD @ Sonoma
DESCRIPTION:Monterey battles Bay Area Derby in the Quasars Division.  \nDoors open at 4:30 PM – 1st Whistle 5:30 PM. Monterey will play in the first game.
URL:https://www.montereybayrollerderby.org/event/mbrd-vs-bad-sonoma/
LOCATION:Sonoma County Fairgrounds\, 1350 Bennett Valley Rd\, Santa Rosa\, CA\, 95404\, United States
CATEGORIES:Bout,California Derby Galaxy
END:VEVENT
BEGIN:VEVENT
DTSTART;VALUE=DATE:20230422
DTEND;VALUE=DATE:20230424
DTSTAMP:20260423T041235
CREATED:20230312T180730Z
LAST-MODIFIED:20230312T180753Z
UID:228-1682121600-1682294399@www.montereybayrollerderby.org
SUMMARY:Attack of the C Squads
DESCRIPTION:Monterey’s tough but sweet baby skaters will be at Angels Camp for a weekend of tournament play.
URL:https://www.montereybayrollerderby.org/event/attack-of-the-c-squads/
LOCATION:Calaveras County Fairgrounds\, 2465 Gun Club Dr.\, Angels Camp\, CA\, United States
CATEGORIES:Tournament
END:VEVENT
BEGIN:VEVENT
DTSTART;TZID=America/Los_Angeles:20230408T120000
DTEND;TZID=America/Los_Angeles:20230408T170000
DTSTAMP:20260423T041235
CREATED:20230312T174843Z
LAST-MODIFIED:20230312T181410Z
UID:222-1680955200-1680973200@www.montereybayrollerderby.org
SUMMARY:MBRD vs CQSU @ Solano
DESCRIPTION:Monterey Bay Roller Derby’s debut in the California Derby Galaxy’s Quasars Division. Monterey will play Carquinoz Quad Squad-Undead Roller Derby (CQSU). \nDoors 12:00 PM\, 1st Whistle 1:00 PM. Monterey will be in Game 2.
URL:https://www.montereybayrollerderby.org/event/mbrd-vs-cqsu-solano/
LOCATION:Solano County Fairgrounds\, 900 Fairgrounds Dr\, Vallejo\, CA\, 94589\, United States
CATEGORIES:Bout,California Derby Galaxy
END:VEVENT
BEGIN:VEVENT
DTSTART;TZID=America/Los_Angeles:20230325T123000
DTEND;TZID=America/Los_Angeles:20230325T170000
DTSTAMP:20260423T041235
CREATED:20230312T173940Z
LAST-MODIFIED:20230312T181111Z
UID:220-1679747400-1679763600@www.montereybayrollerderby.org
SUMMARY:Monterey at Sacramento
DESCRIPTION:Come watch Monterey’s Beasts of Eden square off against Sacramento’s B Team\, Bruin Trouble. Doors open at 12:30pm.  First\, the Sacramento juniors will take on Santa Cruz. Monterey will take the track at 3pm.
URL:https://www.montereybayrollerderby.org/event/monterey-at-sacramento/
LOCATION:Johnson-Springview Park\, 5480 5th Street\, Rocklin\, CA\, United States
CATEGORIES:Beasts of Eden,Bout
END:VEVENT
BEGIN:VEVENT
DTSTART;TZID=America/Los_Angeles:20230311T160000
DTEND;TZID=America/Los_Angeles:20230311T180000
DTSTAMP:20260423T041235
CREATED:20230218T211947Z
LAST-MODIFIED:20230225T170846Z
UID:119-1678550400-1678557600@www.montereybayrollerderby.org
SUMMARY:Paint and Sip
DESCRIPTION:Work on a masterpiece while sipping beer at this Paint and Sip Fundraiser for the Monterey Bay Roller Derby Team. Lead by local artist Jonathan  (IG: @echo_herbs)\, this two hour session includes art supplies\, one complimentary drink from the bar and snacks.  Purchase your ticket below! \nPlease note: Due to the venue\, this event is open to people ages 21 and up only.
URL:https://www.montereybayrollerderby.org/event/paint-and-sip/
LOCATION:XL Public House\, 127 Main Street\, Salinas\, CA\, 93901\, United States
END:VEVENT
END:VCALENDAR